BEGIN:VCALENDAR
VERSION:2.0
PRODID:-//Edlio Inc//Edlio Calendar//EN
CALSCALE:GREGORIAN
METHOD:PUBLISH
X-WR-CALNAME:Math 8 - Period 7-Mr. Tang - Jefferson Middle School
X-ORIGINAL-URL:https://jefferson.sgusd.k12.ca.us
X-WR-CALDESC:Events calendar for jefferson.sgusd.k12.ca.us
X-WR-TIMEZONE:US/Pacific
REFRESH-INTERVAL;VALUE=DURATION:PT1H
X-Robots-Tag:noindex
X-PUBLISHED-TTL:PT1H
BEGIN:VTIMEZONE
TZID:US/Pacific
BEGIN:STANDARD
TZOFFSETFROM:-0700
TZOFFSETTO:-0800
DTSTART:20071104T020000
RRULE:FREQ=YEARLY;BYMONTH=11;BYDAY=1SU
END:STANDARD
BEGIN:DAYLIGHT
TZOFFSETFROM:-0800
TZOFFSETTO:-0700
DTSTART:20070311T020000
RRULE:FREQ=YEARLY;BYMONTH=3;BYDAY=2SU
END:DAYLIGHT
END:VTIMEZONE
BEGIN:VTIMEZONE
TZID:US/East-Indiana
BEGIN:STANDARD
TZOFFSETFROM:-0500
TZOFFSETTO:-0500
DTSTART:19701025T020000
END:STANDARD
END:VTIMEZONE
BEGIN:VTIMEZONE
TZID:US/Eastern
BEGIN:STANDARD
TZOFFSETFROM:-0400
TZOFFSETTO:-0500
DTSTART:19701025T020000
RRULE:FREQ=YEARLY;BYMONTH=10;BYDAY=-1SU;UNTIL=20070311T020000
END:STANDARD
BEGIN:STANDARD
TZOFFSETFROM:-0400
TZOFFSETTO:-0500
DTSTART:20071104T020000
RRULE:FREQ=YEARLY;BYMONTH=11;BYDAY=1SU
END:STANDARD
BEGIN:DAYLIGHT
TZOFFSETFROM:-0500
TZOFFSETTO:-0400
DTSTART:19870405T020000
RRULE:FREQ=YEARLY;BYMONTH=4;BYDAY=1SU;UNTIL=20061029T020000
END:DAYLIGHT
BEGIN:DAYLIGHT
TZOFFSETFROM:-0500
TZOFFSETTO:-0400
DTSTART:20070311T020000
RRULE:FREQ=YEARLY;BYMONTH=3;BYDAY=2SU
END:DAYLIGHT
END:VTIMEZONE
BEGIN:VTIMEZONE
TZID:US/Michigan
BEGIN:STANDARD
TZOFFSETFROM:-0400
TZOFFSETTO:-0500
DTSTART:19701025T020000
RRULE:FREQ=YEARLY;BYMONTH=10;BYDAY=-1SU;UNTIL=20070311T020000
END:STANDARD
BEGIN:STANDARD
TZOFFSETFROM:-0400
TZOFFSETTO:-0500
DTSTART:20071104T020000
RRULE:FREQ=YEARLY;BYMONTH=11;BYDAY=1SU
END:STANDARD
BEGIN:DAYLIGHT
TZOFFSETFROM:-0500
TZOFFSETTO:-0400
DTSTART:19870405T020000
RRULE:FREQ=YEARLY;BYMONTH=4;BYDAY=1SU;UNTIL=20061029T020000
END:DAYLIGHT
BEGIN:DAYLIGHT
TZOFFSETFROM:-0500
TZOFFSETTO:-0400
DTSTART:20070311T020000
RRULE:FREQ=YEARLY;BYMONTH=3;BYDAY=2SU
END:DAYLIGHT
END:VTIMEZONE
BEGIN:VTIMEZONE
TZID:US/Central
BEGIN:STANDARD
TZOFFSETFROM:-0500
TZOFFSETTO:-0600
DTSTART:19701025T020000
RRULE:FREQ=YEARLY;BYMONTH=10;BYDAY=-1SU;UNTIL=20070311T020000
END:STANDARD
BEGIN:STANDARD
TZOFFSETFROM:-0500
TZOFFSETTO:-0600
DTSTART:20071104T020000
RRULE:FREQ=YEARLY;BYMONTH=11;BYDAY=1SU
END:STANDARD
BEGIN:DAYLIGHT
TZOFFSETFROM:-0600
TZOFFSETTO:-0500
DTSTART:19870405T020000
RRULE:FREQ=YEARLY;BYMONTH=4;BYDAY=1SU;UNTIL=20061029T020000
END:DAYLIGHT
BEGIN:DAYLIGHT
TZOFFSETFROM:-0600
TZOFFSETTO:-0500
DTSTART:20070311T020000
RRULE:FREQ=YEARLY;BYMONTH=3;BYDAY=2SU
END:DAYLIGHT
END:VTIMEZONE
BEGIN:VTIMEZONE
TZID:US/Mountain
BEGIN:STANDARD
TZOFFSETFROM:-0600
TZOFFSETTO:-0700
DTSTART:19701025T020000
RRULE:FREQ=YEARLY;BYMONTH=10;BYDAY=-1SU;UNTIL=20070311T020000
END:STANDARD
BEGIN:STANDARD
TZOFFSETFROM:-0600
TZOFFSETTO:-0700
DTSTART:20071104T020000
RRULE:FREQ=YEARLY;BYMONTH=11;BYDAY=1SU
END:STANDARD
BEGIN:DAYLIGHT
TZOFFSETFROM:-0700
TZOFFSETTO:-0600
DTSTART:19870405T020000
RRULE:FREQ=YEARLY;BYMONTH=4;BYDAY=1SU;UNTIL=20061029T020000
END:DAYLIGHT
BEGIN:DAYLIGHT
TZOFFSETFROM:-0700
TZOFFSETTO:-0600
DTSTART:20070311T020000
RRULE:FREQ=YEARLY;BYMONTH=3;BYDAY=2SU
END:DAYLIGHT
END:VTIMEZONE
BEGIN:VTIMEZONE
TZID:US/Arizona
BEGIN:STANDARD
TZOFFSETFROM:-0700
TZOFFSETTO:-0700
DTSTART:19701025T020000
END:STANDARD
END:VTIMEZONE
BEGIN:VTIMEZONE
TZID:US/Pacific
BEGIN:STANDARD
TZOFFSETFROM:-0700
TZOFFSETTO:-0800
DTSTART:19701025T020000
RRULE:FREQ=YEARLY;BYMONTH=10;BYDAY=-1SU;UNTIL=20070311T020000
END:STANDARD
BEGIN:STANDARD
TZOFFSETFROM:-0700
TZOFFSETTO:-0800
DTSTART:20071104T020000
RRULE:FREQ=YEARLY;BYMONTH=11;BYDAY=1SU
END:STANDARD
BEGIN:DAYLIGHT
TZOFFSETFROM:-0800
TZOFFSETTO:-0700
DTSTART:19870405T020000
RRULE:FREQ=YEARLY;BYMONTH=4;BYDAY=1SU;UNTIL=20061029T020000
END:DAYLIGHT
BEGIN:DAYLIGHT
TZOFFSETFROM:-0800
TZOFFSETTO:-0700
DTSTART:20070311T020000
RRULE:FREQ=YEARLY;BYMONTH=3;BYDAY=2SU
END:DAYLIGHT
END:VTIMEZONE
BEGIN:VTIMEZONE
TZID:US/Alaska
BEGIN:STANDARD
TZOFFSETFROM:-0800
TZOFFSETTO:-0900
DTSTART:19701025T020000
RRULE:FREQ=YEARLY;BYMONTH=10;BYDAY=-1SU;UNTIL=20070311T020000
END:STANDARD
BEGIN:STANDARD
TZOFFSETFROM:-0800
TZOFFSETTO:-0900
DTSTART:20071104T020000
RRULE:FREQ=YEARLY;BYMONTH=11;BYDAY=1SU
END:STANDARD
BEGIN:DAYLIGHT
TZOFFSETFROM:-0900
TZOFFSETTO:-0800
DTSTART:19870405T020000
RRULE:FREQ=YEARLY;BYMONTH=4;BYDAY=1SU;UNTIL=20061029T020000
END:DAYLIGHT
BEGIN:DAYLIGHT
TZOFFSETFROM:-0900
TZOFFSETTO:-0800
DTSTART:20070311T020000
RRULE:FREQ=YEARLY;BYMONTH=3;BYDAY=2SU
END:DAYLIGHT
END:VTIMEZONE
BEGIN:VTIMEZONE
TZID:US/Hawaii
BEGIN:STANDARD
TZOFFSETFROM:-1000
TZOFFSETTO:-1000
DTSTART:19701025T020000
END:STANDARD
END:VTIMEZONE
BEGIN:VTIMEZONE
TZID:US/Aleutian
BEGIN:STANDARD
TZOFFSETFROM:-1000
TZOFFSETTO:-1000
DTSTART:19701025T020000
END:STANDARD
END:VTIMEZONE
BEGIN:VTIMEZONE
TZID:US/Samoa
BEGIN:STANDARD
TZOFFSETFROM:-1100
TZOFFSETTO:-1100
DTSTART:19701025T020000
END:STANDARD
END:VTIMEZONE
BEGIN:VEVENT
UID:11827088@jefferson.sgusd.k12.ca.us#20260428
SEQUENCE:0
CREATED:20260424T205638Z
LAST-MODIFIED:20260424T205638Z
DTSTART;TZID=US/Pacific:20260428T155900
DTEND;TZID=US/Pacific:20260428T160000
SUMMARY:Assignment: 2.1 Congruent Figures
DESCRIPTION:Pages 46-47 / 4-12 (BIM online)<br>Assign on Monday\, April 27\
 , 2026\n<a href=' https://jefferson.sgusd.k12.ca.us/apps/classes/1062399/a
 ssignments/#hw-11827088'>Read more</a>
URL:https://jefferson.sgusd.k12.ca.us/apps/classes/1062399/assignments/#hw-
 11827088
ORGANIZER;CN="Edlio Calendar":MAILTO:noreply@jefferson.sgusd.k12.ca.us
DTSTAMP:20260425T142300Z
END:VEVENT
BEGIN:VEVENT
UID:11827094@jefferson.sgusd.k12.ca.us#20260428
SEQUENCE:0
CREATED:20260424T205638Z
LAST-MODIFIED:20260424T205638Z
DTSTART;TZID=US/Pacific:20260428T155900
DTEND;TZID=US/Pacific:20260428T160000
SUMMARY:Assignment: 2.1 Congruent Figures
DESCRIPTION:Pages 46-47 / 4-12 (BIM online)<br>Assign on Monday\, April 27\
 , 2026\n<a href=' https://jefferson.sgusd.k12.ca.us/apps/classes/1062399/a
 ssignments/#hw-11827094'>Read more</a>
URL:https://jefferson.sgusd.k12.ca.us/apps/classes/1062399/assignments/#hw-
 11827094
ORGANIZER;CN="Edlio Calendar":MAILTO:noreply@jefferson.sgusd.k12.ca.us
DTSTAMP:20260425T142300Z
END:VEVENT
BEGIN:VEVENT
UID:11827095@jefferson.sgusd.k12.ca.us#20260428
SEQUENCE:0
CREATED:20260424T205638Z
LAST-MODIFIED:20260424T205638Z
DTSTART;TZID=US/Pacific:20260428T155900
DTEND;TZID=US/Pacific:20260428T160000
SUMMARY:Assignment: 2.1 Congruent Figures
DESCRIPTION:Pages 46-47 / 4-12 (BIM online)<br>Assign on Monday\, April 27\
 , 2026\n<a href=' https://jefferson.sgusd.k12.ca.us/apps/classes/1062399/a
 ssignments/#hw-11827095'>Read more</a>
URL:https://jefferson.sgusd.k12.ca.us/apps/classes/1062399/assignments/#hw-
 11827095
ORGANIZER;CN="Edlio Calendar":MAILTO:noreply@jefferson.sgusd.k12.ca.us
DTSTAMP:20260425T142300Z
END:VEVENT
BEGIN:VEVENT
UID:11827097@jefferson.sgusd.k12.ca.us#20260428
SEQUENCE:0
CREATED:20260424T205638Z
LAST-MODIFIED:20260424T205638Z
DTSTART;TZID=US/Pacific:20260428T155900
DTEND;TZID=US/Pacific:20260428T160000
SUMMARY:Assignment: 2.1 Congruent Figures
DESCRIPTION:Pages 46-47 / 4-12 (BIM online)<br>Assign on Monday\, April 27\
 , 2026\n<a href=' https://jefferson.sgusd.k12.ca.us/apps/classes/1062399/a
 ssignments/#hw-11827097'>Read more</a>
URL:https://jefferson.sgusd.k12.ca.us/apps/classes/1062399/assignments/#hw-
 11827097
ORGANIZER;CN="Edlio Calendar":MAILTO:noreply@jefferson.sgusd.k12.ca.us
DTSTAMP:20260425T142300Z
END:VEVENT
BEGIN:VEVENT
UID:11827086@jefferson.sgusd.k12.ca.us#20260429
SEQUENCE:0
CREATED:20260424T205638Z
LAST-MODIFIED:20260424T205638Z
DTSTART;TZID=US/Pacific:20260429T155900
DTEND;TZID=US/Pacific:20260429T160000
SUMMARY:Assignment: 2.2 Translations
DESCRIPTION:Pages 52-53 / 4\,6\,8\,10-20 (BIM online)<br>Show work on 10 an
 d 14<br>Assign on Tuesday\, April 28\, 2026\n<a href=' https://jefferson.s
 gusd.k12.ca.us/apps/classes/1062399/assignments/#hw-11827086'>Read more</a
 >
URL:https://jefferson.sgusd.k12.ca.us/apps/classes/1062399/assignments/#hw-
 11827086
ORGANIZER;CN="Edlio Calendar":MAILTO:noreply@jefferson.sgusd.k12.ca.us
DTSTAMP:20260425T142300Z
END:VEVENT
BEGIN:VEVENT
UID:11827091@jefferson.sgusd.k12.ca.us#20260429
SEQUENCE:0
CREATED:20260424T205638Z
LAST-MODIFIED:20260424T205638Z
DTSTART;TZID=US/Pacific:20260429T155900
DTEND;TZID=US/Pacific:20260429T160000
SUMMARY:Assignment: 2.2 Translations
DESCRIPTION:Pages 52-53 / 4\,6\,8\,10-20 (BIM online)<br>Show work on 10 an
 d 14<br>Assign on Tuesday\, April 28\, 2026\n<a href=' https://jefferson.s
 gusd.k12.ca.us/apps/classes/1062399/assignments/#hw-11827091'>Read more</a
 >
URL:https://jefferson.sgusd.k12.ca.us/apps/classes/1062399/assignments/#hw-
 11827091
ORGANIZER;CN="Edlio Calendar":MAILTO:noreply@jefferson.sgusd.k12.ca.us
DTSTAMP:20260425T142300Z
END:VEVENT
BEGIN:VEVENT
UID:11827092@jefferson.sgusd.k12.ca.us#20260429
SEQUENCE:0
CREATED:20260424T205638Z
LAST-MODIFIED:20260424T205638Z
DTSTART;TZID=US/Pacific:20260429T155900
DTEND;TZID=US/Pacific:20260429T160000
SUMMARY:Assignment: 2.2 Translations
DESCRIPTION:Pages 52-53 / 4\,6\,8\,10-20 (BIM online)<br>Show work on 10 an
 d 14<br>Assign on Tuesday\, April 28\, 2026\n<a href=' https://jefferson.s
 gusd.k12.ca.us/apps/classes/1062399/assignments/#hw-11827092'>Read more</a
 >
URL:https://jefferson.sgusd.k12.ca.us/apps/classes/1062399/assignments/#hw-
 11827092
ORGANIZER;CN="Edlio Calendar":MAILTO:noreply@jefferson.sgusd.k12.ca.us
DTSTAMP:20260425T142300Z
END:VEVENT
BEGIN:VEVENT
UID:11827096@jefferson.sgusd.k12.ca.us#20260429
SEQUENCE:0
CREATED:20260424T205638Z
LAST-MODIFIED:20260424T205638Z
DTSTART;TZID=US/Pacific:20260429T155900
DTEND;TZID=US/Pacific:20260429T160000
SUMMARY:Assignment: 2.2 Translations
DESCRIPTION:Pages 52-53 / 4\,6\,8\,10-20 (BIM online)<br>Show work on 10 an
 d 14<br>Assign on Tuesday\, April 28\, 2026\n<a href=' https://jefferson.s
 gusd.k12.ca.us/apps/classes/1062399/assignments/#hw-11827096'>Read more</a
 >
URL:https://jefferson.sgusd.k12.ca.us/apps/classes/1062399/assignments/#hw-
 11827096
ORGANIZER;CN="Edlio Calendar":MAILTO:noreply@jefferson.sgusd.k12.ca.us
DTSTAMP:20260425T142300Z
END:VEVENT
BEGIN:VEVENT
UID:11827083@jefferson.sgusd.k12.ca.us#20260501
SEQUENCE:0
CREATED:20260424T205638Z
LAST-MODIFIED:20260424T205638Z
DTSTART;TZID=US/Pacific:20260501T155900
DTEND;TZID=US/Pacific:20260501T160000
SUMMARY:Assignment: 2.3A Reflections
DESCRIPTION:Page 58 / 4-13 (BIM online)<br>Show work 10 and 12<br>Assign on
  Thursday\, April 30\, 2026\n<a href=' https://jefferson.sgusd.k12.ca.us/a
 pps/classes/1062399/assignments/#hw-11827083'>Read more</a>
URL:https://jefferson.sgusd.k12.ca.us/apps/classes/1062399/assignments/#hw-
 11827083
ORGANIZER;CN="Edlio Calendar":MAILTO:noreply@jefferson.sgusd.k12.ca.us
DTSTAMP:20260425T142300Z
END:VEVENT
BEGIN:VEVENT
UID:11827087@jefferson.sgusd.k12.ca.us#20260501
SEQUENCE:0
CREATED:20260424T205638Z
LAST-MODIFIED:20260424T205638Z
DTSTART;TZID=US/Pacific:20260501T155900
DTEND;TZID=US/Pacific:20260501T160000
SUMMARY:Assignment: 2.3A Reflections
DESCRIPTION:Page 58 / 4-13 (BIM online)<br>Show work 10 and 12<br>Assign on
  Thursday\, April 30\, 2026\n<a href=' https://jefferson.sgusd.k12.ca.us/a
 pps/classes/1062399/assignments/#hw-11827087'>Read more</a>
URL:https://jefferson.sgusd.k12.ca.us/apps/classes/1062399/assignments/#hw-
 11827087
ORGANIZER;CN="Edlio Calendar":MAILTO:noreply@jefferson.sgusd.k12.ca.us
DTSTAMP:20260425T142300Z
END:VEVENT
BEGIN:VEVENT
UID:11827089@jefferson.sgusd.k12.ca.us#20260501
SEQUENCE:0
CREATED:20260424T205638Z
LAST-MODIFIED:20260424T205638Z
DTSTART;TZID=US/Pacific:20260501T155900
DTEND;TZID=US/Pacific:20260501T160000
SUMMARY:Assignment: 2.3A Reflections
DESCRIPTION:Page 58 / 4-13 (BIM online)<br>Show work 10 and 12<br>Assign on
  Thursday\, April 30\, 2026\n<a href=' https://jefferson.sgusd.k12.ca.us/a
 pps/classes/1062399/assignments/#hw-11827089'>Read more</a>
URL:https://jefferson.sgusd.k12.ca.us/apps/classes/1062399/assignments/#hw-
 11827089
ORGANIZER;CN="Edlio Calendar":MAILTO:noreply@jefferson.sgusd.k12.ca.us
DTSTAMP:20260425T142300Z
END:VEVENT
BEGIN:VEVENT
UID:11827093@jefferson.sgusd.k12.ca.us#20260501
SEQUENCE:0
CREATED:20260424T205638Z
LAST-MODIFIED:20260424T205638Z
DTSTART;TZID=US/Pacific:20260501T155900
DTEND;TZID=US/Pacific:20260501T160000
SUMMARY:Assignment: 2.3A Reflections
DESCRIPTION:Page 58 / 4-13 (BIM online)<br>Show work 10 and 12<br>Assign on
  Thursday\, April 30\, 2026\n<a href=' https://jefferson.sgusd.k12.ca.us/a
 pps/classes/1062399/assignments/#hw-11827093'>Read more</a>
URL:https://jefferson.sgusd.k12.ca.us/apps/classes/1062399/assignments/#hw-
 11827093
ORGANIZER;CN="Edlio Calendar":MAILTO:noreply@jefferson.sgusd.k12.ca.us
DTSTAMP:20260425T142300Z
END:VEVENT
BEGIN:VEVENT
UID:11827082@jefferson.sgusd.k12.ca.us#20260504
SEQUENCE:0
CREATED:20260424T205638Z
LAST-MODIFIED:20260424T205638Z
DTSTART;TZID=US/Pacific:20260504T155900
DTEND;TZID=US/Pacific:20260504T160000
SUMMARY:Assignment: 2.3B Reflections
DESCRIPTION:Pages 58-59 / 14-24 (BIM online)<br>Show work on 14 and 24<br>A
 ssign on Friday\, May 1\, 2026\n<a href=' https://jefferson.sgusd.k12.ca.u
 s/apps/classes/1062399/assignments/#hw-11827082'>Read more</a>
URL:https://jefferson.sgusd.k12.ca.us/apps/classes/1062399/assignments/#hw-
 11827082
ORGANIZER;CN="Edlio Calendar":MAILTO:noreply@jefferson.sgusd.k12.ca.us
DTSTAMP:20260425T142300Z
END:VEVENT
BEGIN:VEVENT
UID:11827084@jefferson.sgusd.k12.ca.us#20260504
SEQUENCE:0
CREATED:20260424T205638Z
LAST-MODIFIED:20260424T205638Z
DTSTART;TZID=US/Pacific:20260504T155900
DTEND;TZID=US/Pacific:20260504T160000
SUMMARY:Assignment: 2.3B Reflections
DESCRIPTION:Pages 58-59 / 14-24 (BIM online)<br>Show work on 14 and 24<br>A
 ssign on Friday\, May 1\, 2026\n<a href=' https://jefferson.sgusd.k12.ca.u
 s/apps/classes/1062399/assignments/#hw-11827084'>Read more</a>
URL:https://jefferson.sgusd.k12.ca.us/apps/classes/1062399/assignments/#hw-
 11827084
ORGANIZER;CN="Edlio Calendar":MAILTO:noreply@jefferson.sgusd.k12.ca.us
DTSTAMP:20260425T142300Z
END:VEVENT
BEGIN:VEVENT
UID:11827085@jefferson.sgusd.k12.ca.us#20260504
SEQUENCE:0
CREATED:20260424T205638Z
LAST-MODIFIED:20260424T205638Z
DTSTART;TZID=US/Pacific:20260504T155900
DTEND;TZID=US/Pacific:20260504T160000
SUMMARY:Assignment: 2.3B Reflections
DESCRIPTION:Pages 58-59 / 14-24 (BIM online)<br>Show work on 14 and 24<br>A
 ssign on Friday\, May 1\, 2026\n<a href=' https://jefferson.sgusd.k12.ca.u
 s/apps/classes/1062399/assignments/#hw-11827085'>Read more</a>
URL:https://jefferson.sgusd.k12.ca.us/apps/classes/1062399/assignments/#hw-
 11827085
ORGANIZER;CN="Edlio Calendar":MAILTO:noreply@jefferson.sgusd.k12.ca.us
DTSTAMP:20260425T142300Z
END:VEVENT
BEGIN:VEVENT
UID:11827090@jefferson.sgusd.k12.ca.us#20260504
SEQUENCE:0
CREATED:20260424T205638Z
LAST-MODIFIED:20260424T205638Z
DTSTART;TZID=US/Pacific:20260504T155900
DTEND;TZID=US/Pacific:20260504T160000
SUMMARY:Assignment: 2.3B Reflections
DESCRIPTION:Pages 58-59 / 14-24 (BIM online)<br>Show work on 14 and 24<br>A
 ssign on Friday\, May 1\, 2026\n<a href=' https://jefferson.sgusd.k12.ca.u
 s/apps/classes/1062399/assignments/#hw-11827090'>Read more</a>
URL:https://jefferson.sgusd.k12.ca.us/apps/classes/1062399/assignments/#hw-
 11827090
ORGANIZER;CN="Edlio Calendar":MAILTO:noreply@jefferson.sgusd.k12.ca.us
DTSTAMP:20260425T142300Z
END:VEVENT
END:VCALENDAR
